BEGIN:VCALENDAR
VERSION:2.0
PRODID:-//A corps &amp; âme - ECPv6.15.11//NONSGML v1.0//EN
CALSCALE:GREGORIAN
METHOD:PUBLISH
X-WR-CALNAME:A corps &amp; âme
X-ORIGINAL-URL:https://acorpsetamenarbonne.fr
X-WR-CALDESC:Évènements pour A corps &amp; âme
REFRESH-INTERVAL;VALUE=DURATION:PT1H
X-Robots-Tag:noindex
X-PUBLISHED-TTL:PT1H
BEGIN:VTIMEZONE
TZID:Europe/Paris
BEGIN:DAYLIGHT
TZOFFSETFROM:+0100
TZOFFSETTO:+0200
TZNAME:CEST
DTSTART:20250330T010000
END:DAYLIGHT
BEGIN:STANDARD
TZOFFSETFROM:+0200
TZOFFSETTO:+0100
TZNAME:CET
DTSTART:20251026T010000
END:STANDARD
BEGIN:DAYLIGHT
TZOFFSETFROM:+0100
TZOFFSETTO:+0200
TZNAME:CEST
DTSTART:20260329T010000
END:DAYLIGHT
BEGIN:STANDARD
TZOFFSETFROM:+0200
TZOFFSETTO:+0100
TZNAME:CET
DTSTART:20261025T010000
END:STANDARD
BEGIN:DAYLIGHT
TZOFFSETFROM:+0100
TZOFFSETTO:+0200
TZNAME:CEST
DTSTART:20270328T010000
END:DAYLIGHT
BEGIN:STANDARD
TZOFFSETFROM:+0200
TZOFFSETTO:+0100
TZNAME:CET
DTSTART:20271031T010000
END:STANDARD
END:VTIMEZONE
BEGIN:VEVENT
DTSTART;TZID=Europe/Paris:20261030T083000
DTEND;TZID=Europe/Paris:20261101T170000
DTSTAMP:20260420T081140
CREATED:20260209T165040Z
LAST-MODIFIED:20260209T165040Z
UID:1626-1793349000-1793552400@acorpsetamenarbonne.fr
SUMMARY:A corps & ame – Formation 2026 – FEMME ENCEINTE
DESCRIPTION:« Tous les Évènements\n 				\n				\n				\n				\n					\n	A corps & ame – Formation 2026 – FEMME ENCEINTE				\n				\n				\n				\n					\n		\n			30 octobre\n\n	\n\n	  | \n\n\n8h30\n\n	\n\n		\n	\n	  -  \n\n	1 novembre\n\n	\n\n	  | \n\n\n17h00\n\n\n\n	\n				\n				\n		\n				\n		\n		\n				\n									Offrez aux futures mamans un soin profond de douceur et de bienveillance : cette formation vous enseigne à accompagner la grossesse par le massage ayurvédique\, dans le respect du corps\, des émotions et de la sécurité. Formation éligible à certaines aides – nous contacter pour les démarches (France Travail\, OPCO\, etc.) 								\n				\n		\n		\n				\n									Durée3 jours (8h30-17h) Tarif410 € (tarif particulier auto-financé) 								\n				\n									PublicDébutants\, professionnels du bien-être\, ou en reconversion PrérequisAucun 								\n				\n									Effectif2 à 6 stagiaires LieuInstitut A Corps & Âme – Narbonne 								\n				\n				\n				\n		\n					\n		\n				\n					Objectifs de la formation :				\n				\n					\n				\n		\n					\n		\n		\n				\n									Se familiariser avec la physiologie spécifique de la femme enceinte selon les trimestres (anatomie / physiologie) Connaître les contre-indications partielles et absolues pour assurer la sécurité du soin Apprendre à installer la future maman confortablement (sur table ou au sol\, selon le besoin)\, assurer le confort et la sécurité du praticien aussi 								\n				\n		\n				\n									Maîtriser un protocole adapté : massage du ventre\, manœuvres pour soulager jambes lourdes\, manœuvres douces selon les trimestres Adapter rythme\, pression et techniques en fonction des sensations et des besoins de la maman Intégrer des exercices de respiration pour aider à la détente et au lâcher-prise								\n				\n				\n					\n				\n		\n					\n		\n		\n				\n					Moyens techniques				\n				\n									\n 	Supports écrits : Un support écrit est disponible sur  l’extranet Digiforma du centre de formation\, celui ci comprend le déroulé de la formation avec des photos expliquant les enchainements – un espace est prévu pour que chaque participant puisse y annoter ses propres notes. Un paperboard permet de renforcer cette démarche. \n 	Supports visuels : Travail en binôme et démonstrations sur modèles. Vous pratiquez les différents mouvements à la suite d’une partie théorique (courte mais nécessaire) \n 	Matériels : des tables de massage sont à disposition des stagiaires. \n 	Nous vous mettons à disposition le matériel spécifique pour chaque massage afin que vous puissiez réaliser les différentes pratiques. \n								\n				\n		\n				\n					Certification				\n				\n									Évaluation continue tout au long de la formation Attestation de fin de formation remise après validation N° de formateur : 76110148311 Formation éligible à certaines aides – nous contacter pour les démarches (France Travail\, OPCO\, etc.) 								\n				\n				\n					\n				\n				\n						\n					\n			\n				\n					\n		\n				\n										\n						\n									En savoir plus sur cette pratique\n					\n					\n								\n				\n		\n				\n										\n						\n									Me contacter pour une formation\n					\n					\n								\n				\n					\n				\n		\n				\n				\n					\n				\n				\n	\n	A corps & âme\n	\n	\n\nEspace Soleil – 2 avenue de Gruissan\n	\n		\n		Narbonne\,\n\n\n	11100\n\n	France\n\n\n\n\n	+ Google Map \n\n\n	\n					\n			06 18 60 14 41			\n	 \n\n\n	\n	 \n\n\n\n	\n\n\n\n		\n	\n				\n				\n				\n					\n		\n					\n		\n				\n						\n					\n			\n				\n					\n				\n				\n					\n	\n		\n\n	\n	Ajouter au calendrier	\n		\n	\n\n		\n			\n									\n	Google Agenda\n\n									\n	iCalendar\n\n									\n	Outlook 365\n\n									\n	Outlook Live\n\n							\n		\n\n		\n	\n\n				\n				\n					\n				\n					\n		\n					\n		\n				\n						\n					\n			\n						\n				\n					\n	\n		\n\n				A corps & ame – Formation 2026 – POCHONS / BASTIS	\n\n\n		\n	\n		A corps & ame – Formation 2026 –  ABHYANGA
URL:https://acorpsetamenarbonne.fr/evenement/a-corps-ame-formation-2026-femme-enceinte-2/
LOCATION:A corps & âme\, Espace Soleil – 2 avenue de Gruissan\, Narbonne\, 11100\, France
ATTACH;FMTTYPE=image/jpeg:https://acorpsetamenarbonne.fr/wp-content/uploads/2025/10/femme-enceinte.jpg
END:VEVENT
END:VCALENDAR