BEGIN:VCALENDAR
VERSION:2.0
PRODID:-//A corps &amp; âme - ECPv6.15.11//NONSGML v1.0//EN
CALSCALE:GREGORIAN
METHOD:PUBLISH
X-WR-CALNAME:A corps &amp; âme
X-ORIGINAL-URL:https://acorpsetamenarbonne.fr
X-WR-CALDESC:Évènements pour A corps &amp; âme
REFRESH-INTERVAL;VALUE=DURATION:PT1H
X-Robots-Tag:noindex
X-PUBLISHED-TTL:PT1H
BEGIN:VTIMEZONE
TZID:Europe/Paris
BEGIN:DAYLIGHT
TZOFFSETFROM:+0100
TZOFFSETTO:+0200
TZNAME:CEST
DTSTART:20250330T010000
END:DAYLIGHT
BEGIN:STANDARD
TZOFFSETFROM:+0200
TZOFFSETTO:+0100
TZNAME:CET
DTSTART:20251026T010000
END:STANDARD
BEGIN:DAYLIGHT
TZOFFSETFROM:+0100
TZOFFSETTO:+0200
TZNAME:CEST
DTSTART:20260329T010000
END:DAYLIGHT
BEGIN:STANDARD
TZOFFSETFROM:+0200
TZOFFSETTO:+0100
TZNAME:CET
DTSTART:20261025T010000
END:STANDARD
BEGIN:DAYLIGHT
TZOFFSETFROM:+0100
TZOFFSETTO:+0200
TZNAME:CEST
DTSTART:20270328T010000
END:DAYLIGHT
BEGIN:STANDARD
TZOFFSETFROM:+0200
TZOFFSETTO:+0100
TZNAME:CET
DTSTART:20271031T010000
END:STANDARD
END:VTIMEZONE
BEGIN:VEVENT
DTSTART;TZID=Europe/Paris:20260330T083000
DTEND;TZID=Europe/Paris:20260404T170000
DTSTAMP:20260420T082046
CREATED:20251014T172659Z
LAST-MODIFIED:20251031T133409Z
UID:1058-1774859400-1775322000@acorpsetamenarbonne.fr
SUMMARY:A corps & ame – Formation 2026 – DEEP TISSUS
DESCRIPTION:« Tous les Évènements\n 				\n				\n				\n				\n					Cet évènement est passé. \n				\n				\n				\n				\n					\n	A corps & ame – Formation 2026 – DEEP TISSUS				\n				\n				\n				\n					\n		\n			30 mars\n\n	\n\n	  | \n\n\n8h30\n\n	\n\n		\n	\n	  -  \n\n	4 avril\n\n	\n\n	  | \n\n\n17h00\n\n\n\n	\n				\n				\n		\n				\n		\n		\n				\n									Ressentir l’intensité d’un massage en profondeur : le Deep Tissus cible les tensions musculaires intenses\, étire et malaxe les tissus profonds pour soulager\, relâcher et reconnecter le corps à sa force intérieure. Formation éligible à certaines aides – nous contacter pour les démarches (France Travail\, OPCO\, etc.) 								\n				\n		\n		\n				\n									Durée6 jours (8h30-17h) Tarif770 € (tarif particulier auto-financé) 								\n				\n									PublicDébutants\, professionnels du bien-être\, ou en reconversion PrérequisAucun 								\n				\n									Effectif2 à 6 stagiaires LieuInstitut A Corps & Âme – Narbonne 								\n				\n				\n				\n		\n					\n		\n				\n					Objectifs de la formation :				\n				\n					\n				\n		\n					\n		\n		\n				\n									Connaître les principes et indications / contre-indications du massage deep tissus (pathologies\, zones sensibles) Appliquer diverses techniques de pression\, étirement et malaxage des tissus profonds\, avec précision Installer le client dans une posture adaptée\, gérer l’espace de travail pour préserver le corps du praticien 								\n				\n		\n				\n									Adapter le soin selon les besoins du client : zones ciblées\, intensité\, tolérance à la pression Utiliser le massage deep tissues comme complément dans une offre de massage (soin complet ou ciblé) Respecter les règles d’hygiène et de sécurité\, et proposer un retour/feedback au client après le soin								\n				\n				\n					\n				\n		\n					\n		\n		\n				\n					Moyens techniques				\n				\n									\n 	Supports écrits : Un support écrit est disponible sur  l’extranet Digiforma du centre de formation\, celui ci comprend le déroulé de la formation avec des photos expliquant les enchainements – un espace est prévu pour que chaque participant puisse y annoter ses propres notes. Un paperboard permet de renforcer cette démarche. \n 	Supports visuels : Travail en binôme et démonstrations sur modèles. Vous pratiquez les différents mouvements à la suite d’une partie théorique (courte mais nécessaire) \n 	Matériels : des tables de massage sont à disposition des stagiaires. \n 	Nous vous mettons à disposition le matériel spécifique pour chaque massage afin que vous puissiez réaliser les différentes pratiques. \n								\n				\n		\n				\n					Certification				\n				\n									Évaluation continue tout au long de la formation Attestation de fin de formation remise après validation N° de formateur : 76110148311 Formation éligible à certaines aides – nous contacter pour les démarches (France Travail\, OPCO\, etc.) 								\n				\n				\n					\n				\n				\n						\n					\n			\n				\n					\n		\n				\n										\n						\n									En savoir plus sur cette pratique\n					\n					\n								\n				\n		\n				\n										\n						\n									Me contacter pour une formation\n					\n					\n								\n				\n					\n				\n		\n				\n				\n					\n				\n				\n	\n	A corps & âme\n	\n	\n\nEspace Soleil – 2 avenue de Gruissan\n	\n		\n		Narbonne\,\n\n\n	11100\n\n	France\n\n\n\n\n	+ Google Map \n\n\n	\n					\n			06 18 60 14 41			\n	 \n\n\n	\n	 \n\n\n\n	\n\n\n\n		\n	\n				\n				\n				\n					\n		\n					\n		\n				\n						\n					\n			\n				\n					\n				\n				\n					\n	\n		\n\n	\n	Ajouter au calendrier	\n		\n	\n\n		\n			\n									\n	Google Agenda\n\n									\n	iCalendar\n\n									\n	Outlook 365\n\n									\n	Outlook Live\n\n							\n		\n\n		\n	\n\n				\n				\n					\n				\n					\n		\n					\n		\n				\n						\n					\n			\n						\n				\n					\n	\n		\n\n				A corps & ame – Cursus 2026 – module 5 – UDVARTANA / PITCHAULI	\n\n\n		\n	\n		A corps & ame – Formation 2026 – FEMME ENCEINTE
URL:https://acorpsetamenarbonne.fr/evenement/a-corps-ame-formation-2026-deep-tissus/
LOCATION:A corps & âme\, Espace Soleil – 2 avenue de Gruissan\, Narbonne\, 11100\, France
ATTACH;FMTTYPE=image/png:https://acorpsetamenarbonne.fr/wp-content/uploads/2025/10/deep-tissue.png
END:VEVENT
END:VCALENDAR