BEGIN:VCALENDAR
VERSION:2.0
PRODID:-//A corps &amp; âme - ECPv6.15.11//NONSGML v1.0//EN
CALSCALE:GREGORIAN
METHOD:PUBLISH
X-WR-CALNAME:A corps &amp; âme
X-ORIGINAL-URL:https://acorpsetamenarbonne.fr
X-WR-CALDESC:Évènements pour A corps &amp; âme
REFRESH-INTERVAL;VALUE=DURATION:PT1H
X-Robots-Tag:noindex
X-PUBLISHED-TTL:PT1H
BEGIN:VTIMEZONE
TZID:Europe/Paris
BEGIN:DAYLIGHT
TZOFFSETFROM:+0100
TZOFFSETTO:+0200
TZNAME:CEST
DTSTART:20250330T010000
END:DAYLIGHT
BEGIN:STANDARD
TZOFFSETFROM:+0200
TZOFFSETTO:+0100
TZNAME:CET
DTSTART:20251026T010000
END:STANDARD
BEGIN:DAYLIGHT
TZOFFSETFROM:+0100
TZOFFSETTO:+0200
TZNAME:CEST
DTSTART:20260329T010000
END:DAYLIGHT
BEGIN:STANDARD
TZOFFSETFROM:+0200
TZOFFSETTO:+0100
TZNAME:CET
DTSTART:20261025T010000
END:STANDARD
BEGIN:DAYLIGHT
TZOFFSETFROM:+0100
TZOFFSETTO:+0200
TZNAME:CEST
DTSTART:20270328T010000
END:DAYLIGHT
BEGIN:STANDARD
TZOFFSETFROM:+0200
TZOFFSETTO:+0100
TZNAME:CET
DTSTART:20271031T010000
END:STANDARD
END:VTIMEZONE
BEGIN:VEVENT
DTSTART;TZID=Europe/Paris:20261109T083000
DTEND;TZID=Europe/Paris:20261114T170000
DTSTAMP:20260420T063110
CREATED:20260209T165153Z
LAST-MODIFIED:20260209T165215Z
UID:1628-1794213000-1794675600@acorpsetamenarbonne.fr
SUMMARY:A corps & ame – Formation 2026 –  ABHYANGA
DESCRIPTION:« Tous les Évènements\n 				\n				\n				\n				\n					\n	A corps & ame – Formation 2026 –  ABHYANGA				\n				\n				\n				\n					\n		\n			9 novembre\n\n	\n\n	  | \n\n\n8h30\n\n	\n\n		\n	\n	  -  \n\n	14 novembre\n\n	\n\n	  | \n\n\n17h00\n\n\n\n	\n				\n				\n		\n				\n		\n		\n		\n				\n									Durée6 jours (8h30-17h / total : 42h) Tarif770 € (tarif particulier auto-financé / hors cursus complet) 								\n				\n									PublicDébutants\, professionnels du bien-être\, ou en reconversion ImportantCe module est la base pour amener au certificat de « Thérapeute en massages et soins Ayurvédiques » 								\n				\n									Effectif2 à 6 stagiaires LieuInstitut A Corps & Âme – Narbonne 								\n				\n				\n				\n		\n					\n				\n									L’Abhyanga\, Massage ayurvédique traditionnel indien L’Abhyanga est originaire d’Inde\, ce massage est pratiqué souvent à l’huile tiède. L’Abhyanga permet de rééquilibrer notre corps et ses fonctions. Un soin particulièrement indiqué aux personnes nerveuses\, pressées\, stressées… Et à tous ceux qui ont du mal à « lâcher prise ». L’Abhyanga est un massage de l’ensemble du corps. L’Abhyanga (anga désigne les membres ou le corps) est un massage traditionnel de l’ayurvédique. Chaque partie du corps est massée des pieds à la tête avec de l’huile de sésame chaude ou une huile adaptée aux tempéraments ayurvédique de la personne. L’enchaînement des mouvements respecte certaines règles (sens de circulation de l’énergie\, progression particulière etc…) mais laisse une grande place à l’écoute du corps du massé. Chaque masseur a le loisir d’insister un peu plus sur une partie du corps particulièrement tendue. Méthode ayurvédique ancestrale qui vient de l’Inde et permet une harmonisation de l’énergie vitale du corps. L’Abhyanga va relaxer\, rééquilibrer et apporter une amélioration globale du bien-être. Il favorise l’équilibre des « Doshas » (tempéraments ayurvédique) où sont concentrés les cinq éléments de notre constitution (la terre\, l’eau\, le feu\, l’air et l’éther). 								\n		\n				\n							\n						\n				\n					 Les différents doshas \n							\n			\n			\n		\n\n						\n				\n				\n									Kapha – terre et eauPitta – feu et eauVata – air et etherLe modelage du corps est prodigué avec l’huile végétale adaptée à son tempérament (sésame\, moutarde ou coco). 								\n				\n					\n						\n				\n					 A qui s'adresse t'il le plus \n							\n			\n			\n		\n\n						\n				\n					\n				\n									C’est sans doute aux personnes nerveuses\, pressées ou stressées qu’il peut être le plus profitable. En effet\, il permet entre autres d’accroître notre énergie vitale (le prana)\, de favoriser notre concentration et de nous aider à mieux gérer nos émotions. Il s’avère également un très bon préambule à la méditation tant il permet de se relaxer et de « relâcher » l’esprit. 								\n					\n				\n					\n						\n				\n					 Qu’est-ce que l’Aryurvéda ? \n							\n			\n			\n		\n\n						\n				\n				\n									Le mot ayur\, en sanskrit\, signifie « vie » ou « force vitale ». Le mot veda se traduit par « connaissance ». Ayurveda signifie « connaissance de la vie ». 								\n				\n					\n					\n						\n				\n					\n				\n		\n					\n		\n				\n					Objectifs de la formation :				\n				\n					\n				\n		\n					\n		\n		\n				\n									Acquérir un protocole structuré en mettant en œuvre un enchaînement de manœuvres spécifiques avec fluidité Effectuer des manœuvres avec précision 								\n				\n		\n				\n									Observer et accompagner le client dans la perception de ses sensations corporelles et émotionnelles Connaissances théoriques : son origine\, sa spécificité\, ses applications\, ses effets 								\n				\n				\n					\n				\n				\n						\n					\n			\n				\n					\n		\n				\n										\n						\n									Voir le cursus complet\n					\n					\n								\n				\n		\n				\n										\n						\n									Me contacter\n					\n					\n								\n				\n					\n				\n		\n				\n				\n					\n				\n				\n	\n	A corps & âme\n	\n	\n\nEspace Soleil – 2 avenue de Gruissan\n	\n		\n		Narbonne\,\n\n\n	11100\n\n	France\n\n\n\n\n	+ Google Map \n\n\n	\n					\n			06 18 60 14 41			\n	 \n\n\n	\n	 \n\n\n\n	\n\n\n\n		\n	\n				\n				\n				\n					\n		\n					\n		\n				\n						\n					\n			\n				\n					\n				\n				\n					\n	\n		\n\n	\n	Ajouter au calendrier	\n		\n	\n\n		\n			\n									\n	Google Agenda\n\n									\n	iCalendar\n\n									\n	Outlook 365\n\n									\n	Outlook Live\n\n							\n		\n\n		\n	\n\n				\n				\n					\n				\n					\n		\n					\n		\n				\n						\n					\n			\n						\n				\n					\n	\n		\n\n				A corps & ame – Formation 2026 – FEMME ENCEINTE	\n\n\n		\n	\n		A corps & ame – Formation 2026 – DEEP TISSUS
URL:https://acorpsetamenarbonne.fr/evenement/a-corps-ame-formation-2026-abhyanga/
LOCATION:A corps & âme\, Espace Soleil – 2 avenue de Gruissan\, Narbonne\, 11100\, France
ATTACH;FMTTYPE=image/jpeg:https://acorpsetamenarbonne.fr/wp-content/uploads/2025/10/Massage-Abyangha4-e1534118328469.jpg
END:VEVENT
END:VCALENDAR