BEGIN:VCALENDAR
VERSION:2.0
PRODID:-//A corps &amp; âme - ECPv6.15.11//NONSGML v1.0//EN
CALSCALE:GREGORIAN
METHOD:PUBLISH
X-WR-CALNAME:A corps &amp; âme
X-ORIGINAL-URL:https://acorpsetamenarbonne.fr
X-WR-CALDESC:Évènements pour A corps &amp; âme
REFRESH-INTERVAL;VALUE=DURATION:PT1H
X-Robots-Tag:noindex
X-PUBLISHED-TTL:PT1H
BEGIN:VTIMEZONE
TZID:Europe/Paris
BEGIN:DAYLIGHT
TZOFFSETFROM:+0100
TZOFFSETTO:+0200
TZNAME:CEST
DTSTART:20250330T010000
END:DAYLIGHT
BEGIN:STANDARD
TZOFFSETFROM:+0200
TZOFFSETTO:+0100
TZNAME:CET
DTSTART:20251026T010000
END:STANDARD
BEGIN:DAYLIGHT
TZOFFSETFROM:+0100
TZOFFSETTO:+0200
TZNAME:CEST
DTSTART:20260329T010000
END:DAYLIGHT
BEGIN:STANDARD
TZOFFSETFROM:+0200
TZOFFSETTO:+0100
TZNAME:CET
DTSTART:20261025T010000
END:STANDARD
BEGIN:DAYLIGHT
TZOFFSETFROM:+0100
TZOFFSETTO:+0200
TZNAME:CEST
DTSTART:20270328T010000
END:DAYLIGHT
BEGIN:STANDARD
TZOFFSETFROM:+0200
TZOFFSETTO:+0100
TZNAME:CET
DTSTART:20271031T010000
END:STANDARD
END:VTIMEZONE
BEGIN:VEVENT
DTSTART;TZID=Europe/Paris:20260323T083000
DTEND;TZID=Europe/Paris:20260327T170000
DTSTAMP:20260420T063208
CREATED:20251014T154448Z
LAST-MODIFIED:20251031T133344Z
UID:1002-1774254600-1774630800@acorpsetamenarbonne.fr
SUMMARY:A corps & ame – Cursus 2026 – module 5 – UDVARTANA / PITCHAULI
DESCRIPTION:« Tous les Évènements\n 				\n				\n				\n				\n					Cet évènement est passé. \n				\n				\n				\n				\n					\n	A corps & ame – Cursus 2026 – module 5 – UDVARTANA / PITCHAULI				\n				\n				\n				\n					\n		\n			23 mars\n\n	\n\n	  | \n\n\n8h30\n\n	\n\n		\n	\n	  -  \n\n	27 mars\n\n	\n\n	  | \n\n\n17h00\n\n\n\n	\n				\n				\n		\n				\n		\n		\n		\n				\n									Durée5 jours (8h30-17h / total : 35h) Tarif650 € (tarif particulier auto-financé / hors cursus complet) 								\n				\n									PublicDébutants\, professionnels du bien-être\, ou en reconversion Equipement à ramenerles stagiaires doivent apporter leur huile de sésame (1 litre) ainsi qu’un contenant. 								\n				\n									Effectif2 à 6 stagiaires LieuInstitut A Corps & Âme – Narbonne 								\n				\n				\n				\n				\n						\n					\n			\n				\n					\n				\n									Le massage Udvartana est une technique de massage très connue en Inde. Il est pratiqué dans ce pays depuis plus de 4500 ans. C’est un massage à tendance énergétique.C’est une autre forme de technique ayurvédique\, une discipline thérapeutique indispensable pour maintenir la forme\, la santé et la jeunesse. L’Udvartana – Grand massage\, très tonique – a la particularité de ne pas utiliser d’huile\, et le praticien n’utilise que de la poudre de pois chiche\, d’argile et des épices naturelles indiennes (fenugrec\, curcuma\, cannelle et bien d’autres encore!) lors de chaque traitement. Les oligoéléments présents dans la poudre vont pénétrer dans la peau et agir profondément en détruisant les graisses contenues dans l’épiderme. 								\n		\n				\n							\n						\n				\n					 A qui s'adresse t'il le plus \n							\n			\n			\n		\n\n						\n				\n				\n									Ce massage s’adresse tout particulièrement aux personnes ayant des problèmes de poids (et /ou cellulite)\, et/ou qui présentent des problèmes de digestion . Ce massage gomme aussi les imperfections de la peau et la rend souple et douce comme un gommage naturel.Les ingrédients principaux de la poudre utilisée aident à gommer les imperfections de la peau et la rendent plus souple\, plus douce et plus ferme après l’évacuation des graisses. Toute personne peut recevoir ce soin\, désireuse de maintenir sa forme\, sa santé et sa jeunesse. 								\n				\n					\n						\n				\n					 Les avantages du massage udvartana \n							\n			\n			\n		\n\n						\n				\n				\n									Le massage Udvartana soulage les douleurs musculaires et articulaires grâce à la particularité du mélange. Cette technique ayurvédique\, pratiqué par un spécialiste est aussi capable de lutter contre le stress. L’Udvartana favorise l’élimination des toxines et améliore la circulation sanguine. Ceci est du au fait qu’à ses principaux ingrédients\, s’ajoutent des épices qui favorisent la fluidité du sang. Lorsque le sang est fluide\, la tension artérielle reste stable. C’est un massage joyeux et sonore. Il allie des mouvements glissés\, des pincements\, des frottements mais aussi des claquements Le massage permet une profonde relaxation et nous aide à retrouver la paix intérieure. 								\n				\n					\n					\n						\n				\n				\n									Le massage Pichauli est pratiqué avec une grand quantité d’huile pouvant aller jusqu’à 500ml. Nous faisons couler délicatement l’huile chaude sur le corps de façon synchrone grâce a des éponges naturelles. Les praticiennes utilisent leurs mains et leurs bras pour envelopper tout le corps de la personne massée … une déconnexion totale se produit. Il fait partie des massages les plus relaxants de l’Ayurvéda. Il agit sur la fatigue\, le stress\, l’insomnie\, la nervosité… Il unifie le corps. Lors de la formation Udvartana/Pichauli\, les 2 soins seront appris à 2 mains et 4 mains. 								\n					\n				\n		\n					\n		\n				\n					Objectifs de la formation :				\n				\n					\n				\n		\n					\n		\n		\n				\n									Savoir faire le mélange d’ingrédients spécifiques pour cette technique de massage Acquérir un protocole structuré et mettre en œuvre des enchainements de manœuvres spécifiques avec fluidité Acquerir une palette technique variée en effectuant les manœuvres avec precision 								\n				\n		\n				\n									Intégrer présence et écoute Observer et accompagner le client dans la perception de ses sensations corporelles et de ses émotions Savoir présenter en quelques lignes : la méthode\, son origine\, sa spécificité\, ses applications et ses effets 								\n				\n				\n					\n				\n		\n					\n		\n				\n										\n						\n									Voir le cursus complet\n					\n					\n								\n				\n		\n				\n										\n						\n									Me contacter\n					\n					\n								\n				\n					\n				\n		\n				\n				\n					\n				\n				\n	\n	A corps & âme\n	\n	\n\nEspace Soleil – 2 avenue de Gruissan\n	\n		\n		Narbonne\,\n\n\n	11100\n\n	France\n\n\n\n\n	+ Google Map \n\n\n	\n					\n			06 18 60 14 41			\n	 \n\n\n	\n	 \n\n\n\n	\n\n\n\n		\n	\n				\n				\n				\n					\n		\n					\n		\n				\n						\n					\n			\n				\n					\n				\n				\n					\n	\n		\n\n	\n	Ajouter au calendrier	\n		\n	\n\n		\n			\n									\n	Google Agenda\n\n									\n	iCalendar\n\n									\n	Outlook 365\n\n									\n	Outlook Live\n\n							\n		\n\n		\n	\n\n				\n				\n					\n				\n					\n		\n					\n		\n				\n						\n					\n			\n						\n				\n					\n	\n		\n\n				A corps & ame – Cursus 2026 – module 4 – Abhyanga	\n\n\n		\n	\n		A corps & ame – Formation 2026 – DEEP TISSUS
URL:https://acorpsetamenarbonne.fr/evenement/a-corps-ame-cursus-2026-module-5-udvartana-pitchauli/
LOCATION:A corps & âme\, Espace Soleil – 2 avenue de Gruissan\, Narbonne\, 11100\, France
ATTACH;FMTTYPE=image/jpeg:https://acorpsetamenarbonne.fr/wp-content/uploads/2025/10/udvartana.jpg
END:VEVENT
END:VCALENDAR