BEGIN:VCALENDAR
VERSION:2.0
PRODID:-//A corps &amp; âme - ECPv6.15.11//NONSGML v1.0//EN
CALSCALE:GREGORIAN
METHOD:PUBLISH
X-WR-CALNAME:A corps &amp; âme
X-ORIGINAL-URL:https://acorpsetamenarbonne.fr
X-WR-CALDESC:Évènements pour A corps &amp; âme
REFRESH-INTERVAL;VALUE=DURATION:PT1H
X-Robots-Tag:noindex
X-PUBLISHED-TTL:PT1H
BEGIN:VTIMEZONE
TZID:Europe/Paris
BEGIN:DAYLIGHT
TZOFFSETFROM:+0100
TZOFFSETTO:+0200
TZNAME:CEST
DTSTART:20250330T010000
END:DAYLIGHT
BEGIN:STANDARD
TZOFFSETFROM:+0200
TZOFFSETTO:+0100
TZNAME:CET
DTSTART:20251026T010000
END:STANDARD
BEGIN:DAYLIGHT
TZOFFSETFROM:+0100
TZOFFSETTO:+0200
TZNAME:CEST
DTSTART:20260329T010000
END:DAYLIGHT
BEGIN:STANDARD
TZOFFSETFROM:+0200
TZOFFSETTO:+0100
TZNAME:CET
DTSTART:20261025T010000
END:STANDARD
BEGIN:DAYLIGHT
TZOFFSETFROM:+0100
TZOFFSETTO:+0200
TZNAME:CEST
DTSTART:20270328T010000
END:DAYLIGHT
BEGIN:STANDARD
TZOFFSETFROM:+0200
TZOFFSETTO:+0100
TZNAME:CET
DTSTART:20271031T010000
END:STANDARD
END:VTIMEZONE
BEGIN:VEVENT
DTSTART;TZID=Europe/Paris:20260108T083000
DTEND;TZID=Europe/Paris:20260110T170000
DTSTAMP:20260420T082304
CREATED:20251014T142624Z
LAST-MODIFIED:20251031T133156Z
UID:981-1767861000-1768064400@acorpsetamenarbonne.fr
SUMMARY:A corps & ame – Cursus 2026 – module 2 – REFLEXOLOGIE DU VISAGE SAUNDARYA & SOINS AYURVEDIQUES DU VISAGE
DESCRIPTION:« Tous les Évènements\n 				\n				\n				\n				\n					Cet évènement est passé. \n				\n				\n				\n				\n					\n	A corps & ame – Cursus 2026 – module 2 – REFLEXOLOGIE DU VISAGE SAUNDARYA & SOINS AYURVEDIQUES DU VISAGE				\n				\n				\n				\n					\n		\n			8 janvier\n\n	\n\n	  | \n\n\n8h30\n\n	\n\n		\n	\n	  -  \n\n	10 janvier\n\n	\n\n	  | \n\n\n17h00\n\n\n\n	\n				\n				\n		\n				\n		\n		\n		\n				\n									Durée3 jours (8h30-17h / total : 21h) Tarif410 € (tarif particulier auto-financé / hors cursus complet) 								\n				\n									PublicDébutants\, professionnels du bien-être\, ou en reconversion PrérequisAucun 								\n				\n									Effectif2 à 6 stagiaires LieuInstitut A Corps & Âme – Narbonne 								\n				\n				\n				\n		\n					\n				\n									Saundarya fait partie de la médecine traditionnelle indienne dont l’existence remonte à plus de 4000 ans.Dans le Saundarya\, les épaules\, le cou\, le crâne\, les bras\, le buste et le visage sont sollicités avec de l’huile de sésame chaude puis le visage est enfin stimulé par un bol indien (appelé Kansu) et du Ghée (beurre clarifié).Ce soin clarifie et apaise l’esprit. Il augmente la vitalité et rétablit l’équilibre. C’est une technique de beauté et de détente profonde liée à la spiritualité. Au-delà de ses bienfaits physiques\, cet acte d’attention va\, à travers le toucher\, nourrir le corps\, les sens et l’âme à tous les âges de la vie. Un massage ayurvédique\, au-delà de ses vertus relaxantes\, vous offre beaucoup d’autres bénéfices : Il donne un bel éclat à la peau\,Il tonifie et relaxe les tissus musculaires et nourrit la peau\,Il augmente et libère le flux d’oxygène vers les tissus\,Il donne à votre corps une sensation de légèreté et d’énergie\,Il permet d’évacuer les toxines\, recharge le corps en prana (énergie cosmique)\,Il harmonise les doshas : Vatta\, Pitta\, Kapha (tempéraments Ayurvédique)\,Stimule les 7 dathus (lymphe\, sang\, tissus musculaires\, os\, moelle\, tissus nerveux\, tissus reproducteurs)\,Elimine les tensions\, le stress\, harmonise les Chakras.								\n					\n				\n		\n					\n		\n				\n					Objectifs de la formation :				\n				\n					\n				\n		\n					\n		\n		\n				\n									Apprentissage de soins ayurvédiques (masques) en fonction du dosha de la personne Mettre en œuvre des enchaînements spécifiques manuelles et avec le bol Kansu Etablir un bilan de constitution ayurvédique Aider à la relaxation et au lâcher-prise 								\n				\n		\n				\n									Connaissances théoriques : méthode\, origine\, ses applications\, ses effets Développer son sens du toucher Effectuer les manœuvres avec précision Savoir élaborer des masques ayurvédiques en fonction de la texture de peau de la personne								\n				\n				\n					\n				\n				\n						\n					\n			\n				\n					\n		\n				\n										\n						\n									Voir le cursus complet\n					\n					\n								\n				\n		\n				\n										\n						\n									Me contacter\n					\n					\n								\n				\n					\n				\n		\n				\n				\n					\n				\n				\n	\n	A corps & âme\n	\n	\n\nEspace Soleil – 2 avenue de Gruissan\n	\n		\n		Narbonne\,\n\n\n	11100\n\n	France\n\n\n\n\n	+ Google Map \n\n\n	\n					\n			06 18 60 14 41			\n	 \n\n\n	\n	 \n\n\n\n	\n\n\n\n		\n	\n				\n				\n				\n					\n		\n					\n		\n				\n						\n					\n			\n				\n					\n				\n				\n					\n	\n		\n\n	\n	Ajouter au calendrier	\n		\n	\n\n		\n			\n									\n	Google Agenda\n\n									\n	iCalendar\n\n									\n	Outlook 365\n\n									\n	Outlook Live\n\n							\n		\n\n		\n	\n\n				\n				\n					\n				\n					\n		\n					\n		\n				\n						\n					\n			\n						\n				\n					\n	\n		\n\n				A corps & ame – Cursus 2026 – module 1 – REFLEXOLOGIE PLANTAIRE AU BOL KANSU & ELABORATION D’UN GHEE	\n\n\n		\n	\n		A corps & ame – Cursus 2026 – module 3 – SHIRODHARA / SHIROTCHAMPI
URL:https://acorpsetamenarbonne.fr/evenement/a-corps-ame-cursus-2026-module-2-reflexologie-du-visage-saundarya-soins-ayurvediques-du-visage/
LOCATION:A corps & âme\, Espace Soleil – 2 avenue de Gruissan\, Narbonne\, 11100\, France
ATTACH;FMTTYPE=image/jpeg:https://acorpsetamenarbonne.fr/wp-content/uploads/2025/10/istockphoto-508707828-612x612-1.jpg
END:VEVENT
END:VCALENDAR