BEGIN:VCALENDAR
VERSION:2.0
PRODID:-//A corps &amp; âme - ECPv6.15.11//NONSGML v1.0//EN
CALSCALE:GREGORIAN
METHOD:PUBLISH
X-WR-CALNAME:A corps &amp; âme
X-ORIGINAL-URL:https://acorpsetamenarbonne.fr
X-WR-CALDESC:Évènements pour A corps &amp; âme
REFRESH-INTERVAL;VALUE=DURATION:PT1H
X-Robots-Tag:noindex
X-PUBLISHED-TTL:PT1H
BEGIN:VTIMEZONE
TZID:Europe/Paris
BEGIN:DAYLIGHT
TZOFFSETFROM:+0100
TZOFFSETTO:+0200
TZNAME:CEST
DTSTART:20250330T010000
END:DAYLIGHT
BEGIN:STANDARD
TZOFFSETFROM:+0200
TZOFFSETTO:+0100
TZNAME:CET
DTSTART:20251026T010000
END:STANDARD
BEGIN:DAYLIGHT
TZOFFSETFROM:+0100
TZOFFSETTO:+0200
TZNAME:CEST
DTSTART:20260329T010000
END:DAYLIGHT
BEGIN:STANDARD
TZOFFSETFROM:+0200
TZOFFSETTO:+0100
TZNAME:CET
DTSTART:20261025T010000
END:STANDARD
BEGIN:DAYLIGHT
TZOFFSETFROM:+0100
TZOFFSETTO:+0200
TZNAME:CEST
DTSTART:20270328T010000
END:DAYLIGHT
BEGIN:STANDARD
TZOFFSETFROM:+0200
TZOFFSETTO:+0100
TZNAME:CET
DTSTART:20271031T010000
END:STANDARD
END:VTIMEZONE
BEGIN:VEVENT
DTSTART;TZID=Europe/Paris:20260105T083000
DTEND;TZID=Europe/Paris:20260107T170000
DTSTAMP:20260420T082334
CREATED:20251014T141034Z
LAST-MODIFIED:20251031T133118Z
UID:970-1767601800-1767805200@acorpsetamenarbonne.fr
SUMMARY:A corps & ame – Cursus 2026 – module 1 – REFLEXOLOGIE PLANTAIRE AU BOL KANSU & ELABORATION D’UN GHEE
DESCRIPTION:« Tous les Évènements\n 				\n				\n				\n				\n					Cet évènement est passé. \n				\n				\n				\n				\n					\n	A corps & ame – Cursus 2026 – module 1 – REFLEXOLOGIE PLANTAIRE AU BOL KANSU & ELABORATION D’UN GHEE				\n				\n				\n				\n					\n		\n			5 janvier\n\n	\n\n	  | \n\n\n8h30\n\n	\n\n		\n	\n	  -  \n\n	7 janvier\n\n	\n\n	  | \n\n\n17h00\n\n\n\n	\n				\n				\n		\n				\n		\n		\n		\n				\n									Durée3 jours (8h30-17h / total : 21h) Tarif410 € (tarif particulier auto-financé / hors cursus complet) 								\n				\n									PublicDébutants\, professionnels du bien-être\, ou en reconversion PrérequisAucun 								\n				\n									Effectif2 à 6 stagiaires LieuInstitut A Corps & Âme – Narbonne 								\n				\n				\n				\n		\n					\n				\n									D’origine très ancienne\, la réflexologie plantaire indienne repose sur le principe de correspondance entre les zones réflexes et certains organes. Elle se pratique avec un petit bol composé de différents alliages dont le principal et le cuivre. Ses bienfaits : soulage les douleurs\, débloque certaines tensions soit physiques\, soit psychiques\, d’où un effet profond de relaxation\,aide à la circulation sanguine et lymphatique\,aide à drainer les surcharges locales et à distance\,rééquilibre le fonctionnement organique et glandulaire\,équilibre les trois doshas (tempéraments ayurvédiques : Vatta\, Pitta et Kapha) en activant le feu digestif appelé agni.La réflexologie plantaire indienne constitue une véritable prévention en rétablissant l’harmonie perdue\, elle représente une technique de soin simple et très efficace. La réflexologie indienne est une aide précieuse pour les thérapeutes et tout personnel soignant. 								\n					\n				\n		\n					\n		\n				\n					Objectifs de la formation :				\n				\n					\n				\n		\n					\n		\n		\n				\n									\n 	Mettre en œuvre des enchaînements spécifiques manuelles et avec le bol Kansu \n 	Etablir un bilan de constitution ayurvédique \n 	Aider à la relaxation et au lâcher-prise \n 	Connaissances théoriques : méthode\, origine\, ses applications\, ses effets \n								\n				\n		\n				\n									\n 	Développer son sens du toucher \n 	Effectuer les manœuvres avec précision \n 	Savoir élaborer un « ghee » \n								\n				\n				\n					\n				\n				\n						\n					\n			\n				\n					\n		\n				\n										\n						\n									Voir le cursus complet\n					\n					\n								\n				\n		\n				\n										\n						\n									Me contacter\n					\n					\n								\n				\n					\n				\n		\n				\n				\n					\n				\n				\n	\n	A corps & âme\n	\n	\n\nEspace Soleil – 2 avenue de Gruissan\n	\n		\n		Narbonne\,\n\n\n	11100\n\n	France\n\n\n\n\n	+ Google Map \n\n\n	\n					\n			06 18 60 14 41			\n	 \n\n\n	\n	 \n\n\n\n	\n\n\n\n		\n	\n				\n				\n				\n					\n		\n					\n		\n				\n						\n					\n			\n				\n					\n				\n				\n					\n	\n		\n\n	\n	Ajouter au calendrier	\n		\n	\n\n		\n			\n									\n	Google Agenda\n\n									\n	iCalendar\n\n									\n	Outlook 365\n\n									\n	Outlook Live\n\n							\n		\n\n		\n	\n\n				\n				\n					\n				\n					\n		\n					\n		\n				\n						\n					\n			\n						\n				\n					\n	\n		\n\n				A corps & ame – Cursus 2025 – module 8 – REVISIONS\, ETUDES DE PROTOCOLE DE SOINS\, EXAMENS	\n\n\n		\n	\n		A corps & ame – Cursus 2026 – module 2 – REFLEXOLOGIE DU VISAGE SAUNDARYA & SOINS AYURVEDIQUES DU VISAGE
URL:https://acorpsetamenarbonne.fr/evenement/a-corps-ame-cursus-2026-module-1-reflexologie-plantaire-au-bol-kansu-elaboration-dun-ghee/
LOCATION:A corps & âme\, Espace Soleil – 2 avenue de Gruissan\, Narbonne\, 11100\, France
ATTACH;FMTTYPE=image/jpeg:https://acorpsetamenarbonne.fr/wp-content/uploads/2025/10/bb964b099191bfc02d2f9dfa18b8c093-fotor-20251014183820.jpg
END:VEVENT
END:VCALENDAR