BEGIN:VCALENDAR
VERSION:2.0
PRODID:-//A corps &amp; âme - ECPv6.15.11//NONSGML v1.0//EN
CALSCALE:GREGORIAN
METHOD:PUBLISH
X-WR-CALNAME:A corps &amp; âme
X-ORIGINAL-URL:https://acorpsetamenarbonne.fr
X-WR-CALDESC:Évènements pour A corps &amp; âme
REFRESH-INTERVAL;VALUE=DURATION:PT1H
X-Robots-Tag:noindex
X-PUBLISHED-TTL:PT1H
BEGIN:VTIMEZONE
TZID:Europe/Paris
BEGIN:DAYLIGHT
TZOFFSETFROM:+0100
TZOFFSETTO:+0200
TZNAME:CEST
DTSTART:20240331T010000
END:DAYLIGHT
BEGIN:STANDARD
TZOFFSETFROM:+0200
TZOFFSETTO:+0100
TZNAME:CET
DTSTART:20241027T010000
END:STANDARD
BEGIN:DAYLIGHT
TZOFFSETFROM:+0100
TZOFFSETTO:+0200
TZNAME:CEST
DTSTART:20250330T010000
END:DAYLIGHT
BEGIN:STANDARD
TZOFFSETFROM:+0200
TZOFFSETTO:+0100
TZNAME:CET
DTSTART:20251026T010000
END:STANDARD
BEGIN:DAYLIGHT
TZOFFSETFROM:+0100
TZOFFSETTO:+0200
TZNAME:CEST
DTSTART:20260329T010000
END:DAYLIGHT
BEGIN:STANDARD
TZOFFSETFROM:+0200
TZOFFSETTO:+0100
TZNAME:CET
DTSTART:20261025T010000
END:STANDARD
END:VTIMEZONE
BEGIN:VEVENT
DTSTART;TZID=Europe/Paris:20251110T083000
DTEND;TZID=Europe/Paris:20251115T170000
DTSTAMP:20260420T082119
CREATED:20251014T121821Z
LAST-MODIFIED:20251031T132929Z
UID:927-1762763400-1763226000@acorpsetamenarbonne.fr
SUMMARY:A corps & ame - Cursus 2025 - module 7 - marmathérapie
DESCRIPTION:« Tous les Évènements\n 				\n				\n				\n				\n					Cet évènement est passé. \n				\n				\n				\n				\n					\n	A corps & ame – Cursus 2025 – module 7 – marmathérapie				\n				\n				\n				\n					\n		\n			10 novembre\n\n	\n\n	  | \n\n\n8h30\n\n	\n\n		\n	\n	  -  \n\n	15 novembre\n\n	\n\n	  | \n\n\n17h00\n\n\n\n	\n				\n				\n		\n				\n		\n		\n		\n				\n									Durée6 jours (8h30-17h / total : 42h) Tarif770 € (tarif particulier auto-financé) 								\n				\n									PublicDébutants\, professionnels du bien-être\, ou en reconversion PrérequisAucun 								\n				\n									Effectif2 à 6 stagiaires LieuInstitut A Corps & Âme – Narbonne 								\n				\n				\n				\n		\n					\n				\n									Les points Marma sont les centres énergétiques par lesquels passe l’énergie vitale appelée aussi «prana».Il s’agit d’une thérapie pranique qui a pour but d’équilibrer les 5 vayus : Prana\, Udana\, Vyana\, Samana et Apana.Elle trouve son origine en Inde du Sud puis elle a gagné la Chine et le Japon (acupressure\, acuponcture\, digipuncture). Les 107 principaux points Marma sont situés aussi bien sur des organes vitaux que sur des vaisseaux\, des muscles\, des os\, des ligaments\, des articulations et des points réflexes à la surface du corps. La Marmathérapie est à la fois un outil de prévention et de traitement en Ayurveda.Elle équilibre les 3 doshas (Vata\, Pitta et Kapha)\, Agni (feux digestif)\, et aide à l’élimination des toxines. On dénombre 72000 canaux d’énergie ou «Nadis» dont 14 canaux principaux : cette thérapie agit afin d’équilibrer la circulation de l’énergie qui peut être bloquée\, lente ou excessive. La stimulation de ces carrefours énergétiques entre le corps physique et l’esprit indique au corps de produire exactement ce dont il a besoin\, y compris les hormones et les neurochimiques qui guérissent le corps\, l’esprit et la conscience.  Lors de cette session de formation\, nous n’étudierons pas les 107 points marma mais ceux que vous pourrez inclure dans votre massage Abhyanga d’où le terme Marma Abhyanga 								\n					\n				\n		\n					\n		\n				\n										\n						\n									Voir le cursus complet\n					\n					\n								\n				\n		\n				\n										\n						\n									Me contacter\n					\n					\n								\n				\n					\n				\n				\n						\n					\n			\n				\n				\n				\n					\n				\n				\n	\n	A corps & âme\n	\n	\n\nEspace Soleil – 2 avenue de Gruissan\n	\n		\n		Narbonne\,\n\n\n	11100\n\n	France\n\n\n\n\n	+ Google Map \n\n\n	\n					\n			06 18 60 14 41			\n	 \n\n\n	\n	 \n\n\n\n	\n\n\n\n		\n	\n				\n				\n				\n					\n		\n					\n		\n				\n						\n					\n			\n				\n					\n				\n				\n					\n	\n		\n\n	\n	Ajouter au calendrier	\n		\n	\n\n		\n			\n									\n	Google Agenda\n\n									\n	iCalendar\n\n									\n	Outlook 365\n\n									\n	Outlook Live\n\n							\n		\n\n		\n	\n\n				\n				\n					\n				\n					\n		\n					\n		\n				\n						\n					\n			\n						\n				\n					\n	\n		\n		\n	\n		A corps & ame – Cursus 2025 – module 8 – REVISIONS\, ETUDES DE PROTOCOLE DE SOINS\, EXAMENS
URL:https://acorpsetamenarbonne.fr/evenement/a-corps-ame-cursus-2025-module-7-marmatherapie/
LOCATION:A corps & âme\, Espace Soleil – 2 avenue de Gruissan\, Narbonne\, 11100\, France
ATTACH;FMTTYPE=image/jpeg:https://acorpsetamenarbonne.fr/wp-content/uploads/2025/10/marmatherapie.jpg
END:VEVENT
END:VCALENDAR